BEGIN:VCALENDAR
VERSION:2.0
PRODID:-//Kanuabteilung des ESV München e.V. - ECPv6.1.3//NONSGML v1.0//EN
CALSCALE:GREGORIAN
METHOD:PUBLISH
X-WR-CALNAME:Kanuabteilung des ESV München e.V.
X-ORIGINAL-URL:https://esvkanu.de
X-WR-CALDESC:Veranstaltungen für Kanuabteilung des ESV München e.V.
REFRESH-INTERVAL;VALUE=DURATION:PT1H
X-Robots-Tag:noindex
X-PUBLISHED-TTL:PT1H
BEGIN:VTIMEZONE
TZID:Europe/Berlin
BEGIN:DAYLIGHT
TZOFFSETFROM:+0100
TZOFFSETTO:+0200
TZNAME:CEST
DTSTART:20260329T010000
END:DAYLIGHT
BEGIN:STANDARD
TZOFFSETFROM:+0200
TZOFFSETTO:+0100
TZNAME:CET
DTSTART:20261025T010000
END:STANDARD
END:VTIMEZONE
BEGIN:VEVENT
DTSTART;VALUE=DATE:20260207
DTEND;VALUE=DATE:20260208
DTSTAMP:20260421T231445
CREATED:20251205T120739Z
LAST-MODIFIED:20251205T121114Z
UID:858-1770422400-1770508799@esvkanu.de
SUMMARY:Rodeln
DESCRIPTION:Wir wandern hoch und dann ist es ein wilder Ritt runter. Ort nach Schneelage.
URL:https://esvkanu.de/event/rodeln-2/
CATEGORIES:Mehr als Wasser
END:VEVENT
BEGIN:VEVENT
DTSTART;VALUE=DATE:20260222
DTEND;VALUE=DATE:20260223
DTSTAMP:20260421T231445
CREATED:20251205T120852Z
LAST-MODIFIED:20251205T121055Z
UID:860-1771718400-1771804799@esvkanu.de
SUMMARY:Skitour
DESCRIPTION:Klassische alpine Skitour. Ski(touren)-Erfahrung und Kondition für ca. 1.000 Höhenmeter sollten vorhanden sein\, ebenso Sicherheitsequipment (kann beim DAV geliehen werden).
URL:https://esvkanu.de/event/skitour-3/
CATEGORIES:Ausfahrten,Mehr als Wasser
END:VEVENT
END:VCALENDAR