BEGIN:VCALENDAR
VERSION:2.0
PRODID:-//Kanuabteilung des ESV München e.V. - ECPv6.1.3//NONSGML v1.0//EN
CALSCALE:GREGORIAN
METHOD:PUBLISH
X-WR-CALNAME:Kanuabteilung des ESV München e.V.
X-ORIGINAL-URL:https://esvkanu.de
X-WR-CALDESC:Veranstaltungen für Kanuabteilung des ESV München e.V.
REFRESH-INTERVAL;VALUE=DURATION:PT1H
X-Robots-Tag:noindex
X-PUBLISHED-TTL:PT1H
BEGIN:VTIMEZONE
TZID:Europe/Berlin
BEGIN:DAYLIGHT
TZOFFSETFROM:+0100
TZOFFSETTO:+0200
TZNAME:CEST
DTSTART:20260329T010000
END:DAYLIGHT
BEGIN:STANDARD
TZOFFSETFROM:+0200
TZOFFSETTO:+0100
TZNAME:CET
DTSTART:20261025T010000
END:STANDARD
END:VTIMEZONE
BEGIN:VEVENT
DTSTART;TZID=Europe/Berlin:20260123T180000
DTEND;TZID=Europe/Berlin:20260125T160000
DTSTAMP:20260422T005917
CREATED:20251205T115834Z
LAST-MODIFIED:20251205T122033Z
UID:854-1769191200-1769356800@esvkanu.de
SUMMARY:Schneewochenende Bad Gastein
DESCRIPTION:Vereinsinterne Ausfahrt in eine private Hütte zum Skifahren / Rodeln ein. Freitag Abend Anfahrt bis Sonntag Abend . Max. 12 Personen.
URL:https://esvkanu.de/event/854/
LOCATION:Bad Gastein\, Österreich
CATEGORIES:Mehr als Wasser,Vereinsinternes
END:VEVENT
END:VCALENDAR