BEGIN:VCALENDAR
VERSION:2.0
PRODID:-//Kanuabteilung des ESV München e.V. - ECPv6.1.3//NONSGML v1.0//EN
CALSCALE:GREGORIAN
METHOD:PUBLISH
X-WR-CALNAME:Kanuabteilung des ESV München e.V.
X-ORIGINAL-URL:https://esvkanu.de
X-WR-CALDESC:Veranstaltungen für Kanuabteilung des ESV München e.V.
REFRESH-INTERVAL;VALUE=DURATION:PT1H
X-Robots-Tag:noindex
X-PUBLISHED-TTL:PT1H
BEGIN:VTIMEZONE
TZID:Europe/Berlin
BEGIN:DAYLIGHT
TZOFFSETFROM:+0100
TZOFFSETTO:+0200
TZNAME:CEST
DTSTART:20240331T010000
END:DAYLIGHT
BEGIN:STANDARD
TZOFFSETFROM:+0200
TZOFFSETTO:+0100
TZNAME:CET
DTSTART:20241027T010000
END:STANDARD
END:VTIMEZONE
BEGIN:VEVENT
DTSTART;VALUE=DATE:20241003
DTEND;VALUE=DATE:20241007
DTSTAMP:20260424T094651
CREATED:20240131T173202Z
LAST-MODIFIED:20240131T174412Z
UID:637-1727913600-1728259199@esvkanu.de
SUMMARY:Soca
DESCRIPTION:Die legendäre Herbst-Soca. Dieses Jahr\, je nach Lust und Laune der Gruppe\, in Bovec oder Kobarid (Camp oder Fewo).
URL:https://esvkanu.de/event/soca/
LOCATION:Soca\, Vodenca 7\, Bovec\, 5230\, Slowenien
CATEGORIES:Ausfahrten
END:VEVENT
BEGIN:VEVENT
DTSTART;VALUE=DATE:20241019
DTEND;VALUE=DATE:20241021
DTSTAMP:20260424T094651
CREATED:20240131T173728Z
LAST-MODIFIED:20240131T174733Z
UID:644-1729296000-1729468799@esvkanu.de
SUMMARY:Lofer-Wochenende
DESCRIPTION:Gemütlich und sportlich paddeln. Zugleich offizielles Abpaddeln.\nLuxuriöses Camp\, gute Möglichkeiten zum Wandern\, Radeln\, Klettern\, Klettersteigen und Lofer im Herbst ist einfach super schön.\nBei schlechtem Wetter ggf. eine Woche später.
URL:https://esvkanu.de/event/lofer-wochenende-2/
LOCATION:Lofer\, Grubhof 39\, St. Martin bei Lofer\, 5092\, Österreich
CATEGORIES:Ausfahrten
END:VEVENT
END:VCALENDAR