BEGIN:VCALENDAR
VERSION:2.0
PRODID:-//Kanuabteilung des ESV München e.V. - ECPv6.1.3//NONSGML v1.0//EN
CALSCALE:GREGORIAN
METHOD:PUBLISH
X-WR-CALNAME:Kanuabteilung des ESV München e.V.
X-ORIGINAL-URL:https://esvkanu.de
X-WR-CALDESC:Veranstaltungen für Kanuabteilung des ESV München e.V.
REFRESH-INTERVAL;VALUE=DURATION:PT1H
X-Robots-Tag:noindex
X-PUBLISHED-TTL:PT1H
BEGIN:VTIMEZONE
TZID:Europe/Berlin
BEGIN:DAYLIGHT
TZOFFSETFROM:+0100
TZOFFSETTO:+0200
TZNAME:CEST
DTSTART:20240331T010000
END:DAYLIGHT
BEGIN:STANDARD
TZOFFSETFROM:+0200
TZOFFSETTO:+0100
TZNAME:CET
DTSTART:20241027T010000
END:STANDARD
END:VTIMEZONE
BEGIN:VEVENT
DTSTART;VALUE=DATE:20240815
DTEND;VALUE=DATE:20240819
DTSTAMP:20260424T124452
CREATED:20240131T173027Z
LAST-MODIFIED:20240131T173027Z
UID:635-1723680000-1724025599@esvkanu.de
SUMMARY:Osttirol im Hochsommer
DESCRIPTION:Osttirol dieses Mal wieder im Hochsommer für alle von WW 2-4
URL:https://esvkanu.de/event/osttirol-im-hochsommer/
LOCATION:Ainet\, Schlaitnerstraße 108b\, Ainet\, 9951\, Österreich
CATEGORIES:Ausfahrten
END:VEVENT
END:VCALENDAR