BEGIN:VCALENDAR
VERSION:2.0
PRODID:-//Kanuabteilung des ESV München e.V. - ECPv6.1.3//NONSGML v1.0//EN
CALSCALE:GREGORIAN
METHOD:PUBLISH
X-ORIGINAL-URL:https://esvkanu.de
X-WR-CALDESC:Veranstaltungen für Kanuabteilung des ESV München e.V.
REFRESH-INTERVAL;VALUE=DURATION:PT1H
X-Robots-Tag:noindex
X-PUBLISHED-TTL:PT1H
BEGIN:VTIMEZONE
TZID:Europe/Berlin
BEGIN:DAYLIGHT
TZOFFSETFROM:+0100
TZOFFSETTO:+0200
TZNAME:CEST
DTSTART:20240331T010000
END:DAYLIGHT
BEGIN:STANDARD
TZOFFSETFROM:+0200
TZOFFSETTO:+0100
TZNAME:CET
DTSTART:20241027T010000
END:STANDARD
END:VTIMEZONE
BEGIN:VEVENT
DTSTART;VALUE=DATE:20240701
DTEND;VALUE=DATE:20240702
DTSTAMP:20260424T141254
CREATED:20240131T172704Z
LAST-MODIFIED:20240131T172919Z
UID:631-1719792000-1719878399@esvkanu.de
SUMMARY:Tiroler Wuchtwasser
DESCRIPTION:Mal wieder ein Wochenende in Tirol und ggf. dem Engadin. Genauer Termin noch offen. WW 3-4
URL:https://esvkanu.de/event/tiroler-wuchtwasser/
CATEGORIES:Ausfahrten
END:VEVENT
BEGIN:VEVENT
DTSTART;VALUE=DATE:20240705
DTEND;VALUE=DATE:20240708
DTSTAMP:20260424T141254
CREATED:20240131T172428Z
LAST-MODIFIED:20240131T172428Z
UID:629-1720137600-1720396799@esvkanu.de
SUMMARY:Fahrt ins Blaue
DESCRIPTION:Wildwasser-Wochenende. Ziel abhängig von den Bedingungen\, aber sicher gut!
URL:https://esvkanu.de/event/fahrt-ins-blaue/
CATEGORIES:Ausfahrten
END:VEVENT
END:VCALENDAR