BEGIN:VCALENDAR
VERSION:2.0
PRODID:-//Kanuabteilung des ESV München e.V. - ECPv6.1.3//NONSGML v1.0//EN
CALSCALE:GREGORIAN
METHOD:PUBLISH
X-WR-CALNAME:Kanuabteilung des ESV München e.V.
X-ORIGINAL-URL:https://esvkanu.de
X-WR-CALDESC:Veranstaltungen für Kanuabteilung des ESV München e.V.
REFRESH-INTERVAL;VALUE=DURATION:PT1H
X-Robots-Tag:noindex
X-PUBLISHED-TTL:PT1H
BEGIN:VTIMEZONE
TZID:Europe/Berlin
BEGIN:DAYLIGHT
TZOFFSETFROM:+0100
TZOFFSETTO:+0200
TZNAME:CEST
DTSTART:20240331T010000
END:DAYLIGHT
BEGIN:STANDARD
TZOFFSETFROM:+0200
TZOFFSETTO:+0100
TZNAME:CET
DTSTART:20241027T010000
END:STANDARD
END:VTIMEZONE
BEGIN:VEVENT
DTSTART;VALUE=DATE:20240529
DTEND;VALUE=DATE:20240603
DTSTAMP:20260424T154404
CREATED:20240131T171129Z
LAST-MODIFIED:20240521T145506Z
UID:623-1716940800-1717372799@esvkanu.de
SUMMARY:Osttirol
DESCRIPTION:Pfingstfahrt übers lange Wochenende nach Osttirol!
URL:https://esvkanu.de/event/salza-und-enns/
LOCATION:Ainet\, Schlaitnerstraße 108b\, Ainet\, 9951\, Österreich
CATEGORIES:Ausfahrten
END:VEVENT
BEGIN:VEVENT
DTSTART;VALUE=DATE:20240622
DTEND;VALUE=DATE:20240624
DTSTAMP:20260424T154404
CREATED:20240131T172255Z
LAST-MODIFIED:20240131T172255Z
UID:626-1719014400-1719187199@esvkanu.de
SUMMARY:Lechtal
DESCRIPTION:Genusswildwasser am Lech\, die ideale Anfänger- und Familientour
URL:https://esvkanu.de/event/lechtal-2/
LOCATION:Lechtal\, Luxnach 122\, Häselgehr\, 6651\, Österreich
CATEGORIES:Ausfahrten
END:VEVENT
END:VCALENDAR