BEGIN:VCALENDAR
VERSION:2.0
PRODID:-//Kanuabteilung des ESV München e.V. - ECPv6.1.3//NONSGML v1.0//EN
CALSCALE:GREGORIAN
METHOD:PUBLISH
X-ORIGINAL-URL:https://esvkanu.de
X-WR-CALDESC:Veranstaltungen für Kanuabteilung des ESV München e.V.
REFRESH-INTERVAL;VALUE=DURATION:PT1H
X-Robots-Tag:noindex
X-PUBLISHED-TTL:PT1H
BEGIN:VTIMEZONE
TZID:Europe/Berlin
BEGIN:DAYLIGHT
TZOFFSETFROM:+0100
TZOFFSETTO:+0200
TZNAME:CEST
DTSTART:20230326T010000
END:DAYLIGHT
BEGIN:STANDARD
TZOFFSETFROM:+0200
TZOFFSETTO:+0100
TZNAME:CET
DTSTART:20231029T010000
END:STANDARD
END:VTIMEZONE
BEGIN:VEVENT
DTSTART;VALUE=DATE:20230812
DTEND;VALUE=DATE:20230816
DTSTAMP:20260425T054518
CREATED:20230316T104915Z
LAST-MODIFIED:20230316T104915Z
UID:473-1691798400-1692143999@esvkanu.de
SUMMARY:Engadin
DESCRIPTION:Über Maria-Himmelfahrt ins Engadin\nHochsommer im Engadin ist toll. Nicht nur bootfahren\, sondern auch gern Wandern\, Biken etc. Wer mag\, kann (privat) auch gut ne ganze Woche Urlaub daraus machen. \nAnspruch: 💧💧 Du kommst auf der Floßgasse gut zurecht\, einschließlich Kehrwasserfahren (Ziel: WW 2-3/3) bis 💧💧💧 Du bist sicher auf WW 3-4/4 unterwegs und rollst sicher.
URL:https://esvkanu.de/event/engadin/
CATEGORIES:Ausfahrten,Mehr als Wasser
END:VEVENT
END:VCALENDAR