BEGIN:VCALENDAR
VERSION:2.0
PRODID:-//Kanuabteilung des ESV München e.V. - ECPv6.1.3//NONSGML v1.0//EN
CALSCALE:GREGORIAN
METHOD:PUBLISH
X-WR-CALNAME:Kanuabteilung des ESV München e.V.
X-ORIGINAL-URL:https://esvkanu.de
X-WR-CALDESC:Veranstaltungen für Kanuabteilung des ESV München e.V.
REFRESH-INTERVAL;VALUE=DURATION:PT1H
X-Robots-Tag:noindex
X-PUBLISHED-TTL:PT1H
BEGIN:VTIMEZONE
TZID:Europe/Berlin
BEGIN:DAYLIGHT
TZOFFSETFROM:+0100
TZOFFSETTO:+0200
TZNAME:CEST
DTSTART:20260329T010000
END:DAYLIGHT
BEGIN:STANDARD
TZOFFSETFROM:+0200
TZOFFSETTO:+0100
TZNAME:CET
DTSTART:20261025T010000
END:STANDARD
END:VTIMEZONE
BEGIN:VEVENT
DTSTART;TZID=Europe/Berlin:20261010T090000
DTEND;TZID=Europe/Berlin:20261010T170000
DTSTAMP:20260422T004900
CREATED:20251208T105058Z
LAST-MODIFIED:20251208T105059Z
UID:926-1791622800-1791651600@esvkanu.de
SUMMARY:Arbeitstour
DESCRIPTION:Wir bereiten das Bootshaus für den Winter vor. Für Verpflegung ist gesorgt. Ab 9:00 Uhr.
URL:https://esvkanu.de/event/arbeitstour-8/
LOCATION:Boothaus\, Zentralländstraße 27\, München\, 81379\, Deutschland
CATEGORIES:Arbeitstouren,Vereinsinternes
END:VEVENT
END:VCALENDAR