BEGIN:VCALENDAR
VERSION:2.0
PRODID:-//Kanuabteilung des ESV München e.V. - ECPv6.1.3//NONSGML v1.0//EN
CALSCALE:GREGORIAN
METHOD:PUBLISH
X-ORIGINAL-URL:https://esvkanu.de
X-WR-CALDESC:Veranstaltungen für Kanuabteilung des ESV München e.V.
REFRESH-INTERVAL;VALUE=DURATION:PT1H
X-Robots-Tag:noindex
X-PUBLISHED-TTL:PT1H
BEGIN:VTIMEZONE
TZID:Europe/Berlin
BEGIN:DAYLIGHT
TZOFFSETFROM:+0100
TZOFFSETTO:+0200
TZNAME:CEST
DTSTART:20250330T010000
END:DAYLIGHT
BEGIN:STANDARD
TZOFFSETFROM:+0200
TZOFFSETTO:+0100
TZNAME:CET
DTSTART:20251026T010000
END:STANDARD
END:VTIMEZONE
BEGIN:VEVENT
DTSTART;TZID=Europe/Berlin:20251114T190000
DTEND;TZID=Europe/Berlin:20251114T220000
DTSTAMP:20260421T230550
CREATED:20251009T115641Z
LAST-MODIFIED:20251009T115641Z
UID:844-1763146800-1763157600@esvkanu.de
SUMMARY:Jahreshauptversammlung
DESCRIPTION:Jahreshauptversammlung mit Neuwahlen\, der Kanuabteilung.
URL:https://esvkanu.de/event/jahreshauptversammlung-2/
LOCATION:Boothaus\, Zentralländstraße 27\, München\, 81379\, Deutschland
CATEGORIES:Vereinsinternes
END:VEVENT
END:VCALENDAR