BEGIN:VCALENDAR
VERSION:2.0
PRODID:-//Kanuabteilung des ESV München e.V. - ECPv6.1.3//NONSGML v1.0//EN
CALSCALE:GREGORIAN
METHOD:PUBLISH
X-ORIGINAL-URL:https://esvkanu.de
X-WR-CALDESC:Veranstaltungen für Kanuabteilung des ESV München e.V.
REFRESH-INTERVAL;VALUE=DURATION:PT1H
X-Robots-Tag:noindex
X-PUBLISHED-TTL:PT1H
BEGIN:VTIMEZONE
TZID:Europe/Berlin
BEGIN:DAYLIGHT
TZOFFSETFROM:+0100
TZOFFSETTO:+0200
TZNAME:CEST
DTSTART:20260329T010000
END:DAYLIGHT
BEGIN:STANDARD
TZOFFSETFROM:+0200
TZOFFSETTO:+0100
TZNAME:CET
DTSTART:20261025T010000
END:STANDARD
END:VTIMEZONE
BEGIN:VEVENT
DTSTART;VALUE=DATE:20261001
DTEND;VALUE=DATE:20261006
DTSTAMP:20260422T071640
CREATED:20251208T105329Z
LAST-MODIFIED:20251218T074120Z
UID:928-1790812800-1791244799@esvkanu.de
SUMMARY:Herbstsoca
DESCRIPTION:Auch ohne Feiertag – ein Paddeljahr ohne Soca ist ein verlorenes Paddeljahr.
URL:https://esvkanu.de/event/herbstsoca/
LOCATION:Soca\, Vodenca 7\, Bovec\, 5230\, Slowenien
CATEGORIES:Für Fortgeschrittene,Für Könner
END:VEVENT
END:VCALENDAR