BEGIN:VCALENDAR
VERSION:2.0
PRODID:-//Kanuabteilung des ESV München e.V. - ECPv6.1.3//NONSGML v1.0//EN
CALSCALE:GREGORIAN
METHOD:PUBLISH
X-ORIGINAL-URL:https://esvkanu.de
X-WR-CALDESC:Veranstaltungen für Kanuabteilung des ESV München e.V.
REFRESH-INTERVAL;VALUE=DURATION:PT1H
X-Robots-Tag:noindex
X-PUBLISHED-TTL:PT1H
BEGIN:VTIMEZONE
TZID:Europe/Berlin
BEGIN:DAYLIGHT
TZOFFSETFROM:+0100
TZOFFSETTO:+0200
TZNAME:CEST
DTSTART:20260329T010000
END:DAYLIGHT
BEGIN:STANDARD
TZOFFSETFROM:+0200
TZOFFSETTO:+0100
TZNAME:CET
DTSTART:20261025T010000
END:STANDARD
END:VTIMEZONE
BEGIN:VEVENT
DTSTART;VALUE=DATE:20260712
DTEND;VALUE=DATE:20260713
DTSTAMP:20260422T023646
CREATED:20251205T125144Z
LAST-MODIFIED:20251205T125357Z
UID:886-1783814400-1783900799@esvkanu.de
SUMMARY:Plattling Freestyle
DESCRIPTION:Freestyle-Wochenende und Austoben an der Welle in Plattling.
URL:https://esvkanu.de/event/plattling-freestyle-3/
LOCATION:Isarwelle Plattling\, Plattling\, Deutschland
CATEGORIES:Ausfahrten,Für Fortgeschrittene,Für Könner
END:VEVENT
BEGIN:VEVENT
DTSTART;VALUE=DATE:20260718
DTEND;VALUE=DATE:20260720
DTSTAMP:20260422T023646
CREATED:20251205T125327Z
LAST-MODIFIED:20251218T073644Z
UID:888-1784332800-1784505599@esvkanu.de
SUMMARY:Engadin
DESCRIPTION:Traumwildwasser im Engadin. WW II – IV(+)
URL:https://esvkanu.de/event/engadin-2/
LOCATION:Scuol\, Scuol\, 7545\, Schweiz
CATEGORIES:Ausfahrten,Für Fortgeschrittene,Für Könner
END:VEVENT
BEGIN:VEVENT
DTSTART;VALUE=DATE:20260724
DTEND;VALUE=DATE:20260725
DTSTAMP:20260422T023646
CREATED:20251205T130213Z
LAST-MODIFIED:20251205T130213Z
UID:898-1784851200-1784937599@esvkanu.de
SUMMARY:Vereinsrennen und Grillen
DESCRIPTION:Die jährliche Vereinsmeisterschaft mit Gaudirennen und Grillen.
URL:https://esvkanu.de/event/vereinsrennen-und-grillen-2/
LOCATION:Boothaus\, Zentralländstraße 27\, München\, 81379\, Deutschland
CATEGORIES:Kajak-Sport,Vereinsinternes
END:VEVENT
END:VCALENDAR