BEGIN:VCALENDAR
VERSION:2.0
PRODID:-//Kanuabteilung des ESV München e.V. - ECPv6.1.3//NONSGML v1.0//EN
CALSCALE:GREGORIAN
METHOD:PUBLISH
X-ORIGINAL-URL:https://esvkanu.de
X-WR-CALDESC:Veranstaltungen für Kanuabteilung des ESV München e.V.
REFRESH-INTERVAL;VALUE=DURATION:PT1H
X-Robots-Tag:noindex
X-PUBLISHED-TTL:PT1H
BEGIN:VTIMEZONE
TZID:Europe/Berlin
BEGIN:DAYLIGHT
TZOFFSETFROM:+0100
TZOFFSETTO:+0200
TZNAME:CEST
DTSTART:20260329T010000
END:DAYLIGHT
BEGIN:STANDARD
TZOFFSETFROM:+0200
TZOFFSETTO:+0100
TZNAME:CET
DTSTART:20261025T010000
END:STANDARD
END:VTIMEZONE
BEGIN:VEVENT
DTSTART;VALUE=DATE:20260501
DTEND;VALUE=DATE:20260504
DTSTAMP:20260421T230506
CREATED:20251205T123039Z
LAST-MODIFIED:20251205T131637Z
UID:874-1777593600-1777852799@esvkanu.de
SUMMARY:Erste Maiausfahrt
DESCRIPTION:Mittelschweres Wildwasser auf Klassikern der Nordalpen. Genaues Ziel und Datum je nach Wasserständen. WW II – IV \n 
URL:https://esvkanu.de/event/erste-maiausfahrt/
CATEGORIES:Ausfahrten,Für Fortgeschrittene
END:VEVENT
BEGIN:VEVENT
DTSTART;TZID=Europe/Berlin:20260509T080000
DTEND;TZID=Europe/Berlin:20260517T170000
DTSTAMP:20260421T230506
CREATED:20251205T123530Z
LAST-MODIFIED:20251218T073657Z
UID:878-1778313600-1779037200@esvkanu.de
SUMMARY:Vjosa - Albanien
DESCRIPTION:Vom Oberlauf der Vjosa an der griechischen Grenze bis ins Mittelmeer. Mehrtagstour in Albanien. Ganz was feines.
URL:https://esvkanu.de/event/vjosa-albanien/
LOCATION:Vjosa\, 3HHJ+4J\, Vllaho – Psilloterë\, Çarçovë\, Albanien
CATEGORIES:Ausfahrten,Für Fortgeschrittene
END:VEVENT
END:VCALENDAR