BEGIN:VCALENDAR
VERSION:2.0
PRODID:-//Kanuabteilung des ESV München e.V. - ECPv6.1.3//NONSGML v1.0//EN
CALSCALE:GREGORIAN
METHOD:PUBLISH
X-ORIGINAL-URL:https://esvkanu.de
X-WR-CALDESC:Veranstaltungen für Kanuabteilung des ESV München e.V.
REFRESH-INTERVAL;VALUE=DURATION:PT1H
X-Robots-Tag:noindex
X-PUBLISHED-TTL:PT1H
BEGIN:VTIMEZONE
TZID:Europe/Berlin
BEGIN:DAYLIGHT
TZOFFSETFROM:+0100
TZOFFSETTO:+0200
TZNAME:CEST
DTSTART:20230326T010000
END:DAYLIGHT
BEGIN:STANDARD
TZOFFSETFROM:+0200
TZOFFSETTO:+0100
TZNAME:CET
DTSTART:20231029T010000
END:STANDARD
END:VTIMEZONE
BEGIN:VEVENT
DTSTART;TZID=Europe/Berlin:20231007T090000
DTEND;TZID=Europe/Berlin:20231007T170000
DTSTAMP:20260425T021112
CREATED:20230316T111626Z
LAST-MODIFIED:20230316T111626Z
UID:486-1696669200-1696698000@esvkanu.de
SUMMARY:Arbeitstour
DESCRIPTION:Zum Saisonsabschluss machen wir das Bootshaus fit für den Winter. \nPutzen\, reparieren\, streichen! Aber auch gemeinsam essen und viele Gesichter wiedersehen.
URL:https://esvkanu.de/event/arbeitstour-2/
LOCATION:Boothaus\, Zentralländstraße 27\, München\, 81379\, Deutschland
CATEGORIES:Arbeitstouren,Vereinsinternes
ATTACH;FMTTYPE=image/jpeg:https://esvkanu.de/wp-content/uploads/2022/05/ESV-Kanu_Bootshaus_2022.jpg
END:VEVENT
END:VCALENDAR